BEGIN:VCALENDAR
VERSION:2.0
PRODID:-//Counterpoints - ECPv6.15.18//NONSGML v1.0//EN
CALSCALE:GREGORIAN
METHOD:PUBLISH
X-WR-CALNAME:Counterpoints
X-ORIGINAL-URL:https://counterpoints.org.uk
X-WR-CALDESC:Events for Counterpoints
REFRESH-INTERVAL;VALUE=DURATION:PT1H
X-Robots-Tag:noindex
X-PUBLISHED-TTL:PT1H
BEGIN:VTIMEZONE
TZID:Europe/London
BEGIN:DAYLIGHT
TZOFFSETFROM:+0000
TZOFFSETTO:+0100
TZNAME:BST
DTSTART:20220327T010000
END:DAYLIGHT
BEGIN:STANDARD
TZOFFSETFROM:+0100
TZOFFSETTO:+0000
TZNAME:GMT
DTSTART:20221030T010000
END:STANDARD
BEGIN:DAYLIGHT
TZOFFSETFROM:+0000
TZOFFSETTO:+0100
TZNAME:BST
DTSTART:20230326T010000
END:DAYLIGHT
BEGIN:STANDARD
TZOFFSETFROM:+0100
TZOFFSETTO:+0000
TZNAME:GMT
DTSTART:20231029T010000
END:STANDARD
BEGIN:DAYLIGHT
TZOFFSETFROM:+0000
TZOFFSETTO:+0100
TZNAME:BST
DTSTART:20240331T010000
END:DAYLIGHT
BEGIN:STANDARD
TZOFFSETFROM:+0100
TZOFFSETTO:+0000
TZNAME:GMT
DTSTART:20241027T010000
END:STANDARD
BEGIN:DAYLIGHT
TZOFFSETFROM:+0000
TZOFFSETTO:+0100
TZNAME:BST
DTSTART:20250330T010000
END:DAYLIGHT
BEGIN:STANDARD
TZOFFSETFROM:+0100
TZOFFSETTO:+0000
TZNAME:GMT
DTSTART:20251026T010000
END:STANDARD
END:VTIMEZONE
BEGIN:VTIMEZONE
TZID:UTC
BEGIN:STANDARD
TZOFFSETFROM:+0000
TZOFFSETTO:+0000
TZNAME:UTC
DTSTART:20220101T000000
END:STANDARD
END:VTIMEZONE
BEGIN:VEVENT
DTSTART;TZID=Europe/London:20240622T163000
DTEND;TZID=Europe/London:20240622T173000
DTSTAMP:20260421T221405
CREATED:20240604T061401Z
LAST-MODIFIED:20240709T144534Z
UID:10000428-1719073800-1719077400@counterpoints.org.uk
SUMMARY:The Art Persists: Live Podcast by Bosla Arts
DESCRIPTION:Join Bosla Arts and Counterpoints Arts for a live podcast event! Bosla Arts will bring together a panel of artists to talk about their work on the themes of displacement\, climate justice\, sustainability and mental health. Speakers to be announced shortly. \nThe Art Persists Podcast offers a glimpse into the life of artists and activists bridging the arts\, activism\, and human rights around the world. \n\n\n\nBosla Arts is an arts platform focused on sharing and supporting art-activists worldwide\, while drawing on their work to raise awareness to the public. They do this through an art residency\, events\, art magazine\, and art podcast – bringing together artists\, activists\, and social change makers from all over the world.\n\n\nFree event\, book your tickets HERE.\n\nImage Credit: Paul Gilbey
URL:https://counterpoints.org.uk/event/the-art-persists-live-podcast-by-bosla-arts/
LOCATION:Yorkton Workshops\, 1-3 Yorkton St\, London\, London\, E2 8NH\, United Kingdom
CATEGORIES:Audio,London Refugee Week,Sustainability & Climate Justice
ATTACH;FMTTYPE=image/jpeg:https://counterpoints.org.uk/wp-content/uploads/2024/06/LRW-OVERLAY-WEBSITE-1-1.jpg
END:VEVENT
BEGIN:VEVENT
DTSTART;TZID=Europe/London:20240620T190000
DTEND;TZID=Europe/London:20240620T210000
DTSTAMP:20260421T221405
CREATED:20240604T093938Z
LAST-MODIFIED:20240709T144534Z
UID:10000437-1718910000-1718917200@counterpoints.org.uk
SUMMARY:Our Home: Voices from Afghanistan by Magdalena Moursy in collaboration with Ariana Abawe
DESCRIPTION:For Refugee Week 2024\, join Magdalena Moursy and Ariana Abawe at Libreria Bookshop for a special showcase of Voices from Afghanistan – an audio feature that shares different stories from Afghans around the world. \nIn response to Refugee Week’s theme this year ‘Our Home’\, we invite you to sit for a collective listening session that fosters a deeper connection to the Afghan experience with live performances of Afghan Rubab music and poetry. And experience some Afghan hospitality with tea and snacks provided by Ariana’s mother who runs Kulcha Kafe. \nListen to the personal stories of four women – a judge\, a yoga activist\, a fashion activist\, an artist – and a man who is a refugee rights campaigner\, as they reflect on their lives under the Taliban regime\, their experiences of displacement\, and their hopes and fears for the future of their homeland. \nAs we approach 3 years on since the Taliban re-occupied Afghanistan in August 2021\, it feels to many Afghans that the world has turned their backs and gone silent. This event offers an opportunity to gain a deeper and more personal understanding of the complex realities faced by Afghans throughout their lives and today. \nJoin us in support of the Afghan community who continue to show resilience and courage\, hoping and working for a better future for their home\, Afghanistan. Voices from Afghanistan was produced and edited by Magdalena Moursy\, in collaboration with British-Afghan journalist Ariana Abawe\, who supported as research and cultural consultant. This project has been funded by Arts Council England. \nFree event. \nImage credit: the artists.
URL:https://counterpoints.org.uk/event/our-home-voices-from-afghanistan-by-magdalena-moursy-in-collaboration-with-ariana-abawe/
LOCATION:Libreria Bookshop\, 65 Hanbury Street\, London\, E1 5JL\, United Kingdom
CATEGORIES:Audio,London Refugee Week
ATTACH;FMTTYPE=image/jpeg:https://counterpoints.org.uk/wp-content/uploads/2024/06/LRW-OVERLAY-WEBSITE-7.jpg
END:VEVENT
BEGIN:VEVENT
DTSTART;TZID=Europe/London:20240617T180000
DTEND;TZID=Europe/London:20240622T220000
DTSTAMP:20260421T221405
CREATED:20240604T064305Z
LAST-MODIFIED:20240709T144534Z
UID:10000430-1718647200-1719093600@counterpoints.org.uk
SUMMARY:Voice Notes by Compass Collective and nottingham trent university
DESCRIPTION:Come and experience the ‘Voice Notes’ is an international art project exploring the role of the telephone in experiences of exile. Featuring recorded phone calls left by young refugees and asylum seekers from around the world\, the exhibition investigates displaced voices\, creative networks\, transnational communication\, and different modes of talking and listening across cultures.\n\n\n\n\nThe exhibition has been co-created with over fifty young people who have fled war\, violence\, conflict and persecution and yet who continue to offer stories of solidarity and hope. At the heart of the installation are multidirectional ultrasonic speakers that are positioned to create a network of intersecting telephone messages. As visitors move around the gallery\, they tap into stories of home and belonging\, landscape and loss\, and communication and connection. In turn\, visitors are invited to shape new ways of thinking about sanctuary by contributing their own voice notes as part of our evolving telephonic soundscape.\n\nVoice Notes has been co-created with over 50 young refugees and asylum seekers living the UK and in the Kurdistan Region of Iraq. The exhibition is curated by poet Dr Sarah Jackson (Nottingham Trent University) in collaboration with acclaimed sound artist and founder of the Space21 international festival Hardi Kurda\, and refugee arts organisation Compass Collective.\n\nThe project is supported by international partners\, including New Art Exchange\, Counterpoints Arts\, Refugee Roots\, Nottingham UNESCO City of Literature\, Slemani UNESCO Cities of Literature and STEP. It is funded by the Arts and Humanities Research Council.\n\nDr Sarah Jackson is Associate Professor in Modern and Contemporary Writing. She teaches on the BA English\, BA Creative Writing\, MA Creative Writing and MRes English Literary Research programmes\, and supervises PhD students working in contemporary literature and creative writing. An award-winning poet and academic\, Sarah publishes widely on 20th and 21st century literature\, literary theory and creative-critical ecologies.\n\nPart of the exhibition curated by Counterpoints Arts\, with the support of Yorkton Workshops.
URL:https://counterpoints.org.uk/event/voice-notes-by-compass-collective-and-nottingham-trent-university/
LOCATION:Yorkton Workshops\, 1-3 Yorkton St\, London\, London\, E2 8NH\, United Kingdom
CATEGORIES:Audio,London Refugee Week
ATTACH;FMTTYPE=image/jpeg:https://counterpoints.org.uk/wp-content/uploads/2024/06/LRW-OVERLAY-WEBSITE-3.jpg
END:VEVENT
BEGIN:VEVENT
DTSTART;VALUE=DATE:20231021
DTEND;VALUE=DATE:20231023
DTSTAMP:20260421T221405
CREATED:20230725T155343Z
LAST-MODIFIED:20240709T144537Z
UID:10000341-1697846400-1698019199@counterpoints.org.uk
SUMMARY:Flamm (Redruth)
DESCRIPTION:We are excited to be partnering with Creative Kernow to present commissions by artists Abigail Reynolds and Sovay Berriman as part of a new pilot initiative Flamm in Redruth\, Cornwall on 21-22 October. Both projects address issues of heritage\, language and migration in ways that add new dimensions to our Platforma 2023 programme. \nAbigail Reynolds will present CORE\, a collaborative sound installation rooted in place\, from the quarry on Carn Marth to explore socio-economic change caused by mine closures and ideological hydro feminist change in our extractive relationship with the environment. More information on this event and booking details here. \nGwyrdh Glas (tr. Green Green) by Sovay Berriman uses sculpture and conversation to explore contemporary Kernewek (Cornish) identity in relation to themes of heritage\, land and extraction industries. Sovay will deliver a public workshop series and an audiovisual film and a rock sculpture on the themes of Kernewek (Cornish) identity\, land and language. More information on this event here. \nThe artworks will be presented at Flamm in Redruth\, Cornwall on 21-22 October as part of a multi-layered programme of exhibitions and events. This project is funded by the UK Government through the UK Shared Prosperity Fund; European Structural and Investment\, Cornwall Council and Arts Council England. You can read more about Flamm and the two artists proposals at flamm.creativekernow.org.uk \nPart of the Platforma festival 2023\, produced by Counterpoints Arts and partners across the South West of England. \n\n		\n		\n			\n				\n			\n				\n				Abigail Reynolds\n				\n			\n				\n			\n				\n				Sovay Berriman
URL:https://counterpoints.org.uk/event/flamm/
CATEGORIES:Audio,Community & Participation,Multi-Art Form,Music,Platforma,Visual Arts
ATTACH;FMTTYPE=image/jpeg:https://counterpoints.org.uk/wp-content/uploads/2023/07/Test-Platforma-Overlay-6.jpg
END:VEVENT
BEGIN:VEVENT
DTSTART;VALUE=DATE:20231020
DTEND;VALUE=DATE:20231022
DTSTAMP:20260421T221405
CREATED:20230725T145708Z
LAST-MODIFIED:20240709T144538Z
UID:10000337-1697760000-1697932799@counterpoints.org.uk
SUMMARY:Ellipsis: An Audio Walking Tour in Swindon
DESCRIPTION:Belén L.Yáñez will be bringing her audio walking tour Ellipsis to Swindon. Co-created with local communities\, Ellipsis encourages you to reconnect with your local area and observe something new and unexpected in the everyday.  \nJoin us in Swindon for a free and interactive audio walking tour experience suitable for all ages. Guided by a performer for 60 minutes you will be invited to rediscover and interact with your local area. Explore familiar places from a different perspective and blur the real with the imagined. \nMultiple dates and times in Swindon on Friday 20 October\, 3.30PM and Saturday 21 October\, 11AM and 3PM. Book your free tickets via Eventbrite. \nFunded by National Lottery through Arts Council England \nCo-commissioned by Counterpoints Arts \nSupported by Arts University Plymouth & Prime Theatre \nImage credit: Collage by Belén L.Yáñez \nPart of the Platforma festival 2023\, produced by Counterpoints Arts and partners across the South West of England.
URL:https://counterpoints.org.uk/event/ellipsis-an-audio-walking-tour-in-swindon/
LOCATION:STEAM – Museum of the Great Western Railway\, Fire Fly Avenue\, Swindon\, SN2 2TA\, United Kingdom
CATEGORIES:Audio,Community & Participation,Performance & Dance,Platforma
ATTACH;FMTTYPE=image/png:https://counterpoints.org.uk/wp-content/uploads/2023/07/ellipsis_Overlay-Platforma.png
END:VEVENT
BEGIN:VEVENT
DTSTART;VALUE=DATE:20231006
DTEND;VALUE=DATE:20231008
DTSTAMP:20260421T221405
CREATED:20230724T161822Z
LAST-MODIFIED:20240709T144538Z
UID:10000332-1696550400-1696723199@counterpoints.org.uk
SUMMARY:Ellipsis: An Audio Walking Tour (Plymouth)
DESCRIPTION:Belén L.Yáñez will be bringing her audio walking tour Ellipsis to Plymouth. Co-created with local communities\, Ellipsis encourages you to reconnect with your local area and observe something new and unexpected in the everyday.  \nJoin us for a free and interactive audio walking tour experience suitable for all ages. Guided by a performer for 60 minutes you will be invited to rediscover and interact with your local area. Explore familiar places from a different perspective and blur the real with the imagined. \nMultiple dates and times in Plymouth on Friday 6 October\, 4.30PM and Saturday 7 October\, 11AM and 4.30PM. \nFunded by National Lottery through Arts Council England. \nCo-commissioned by Counterpoints Arts \nSupported by Arts University Plymouth & Prime Theatre \nImage credit: Collage by Belén L.Yáñez \nPart of the Platforma festival 2023\, produced by Counterpoints Arts and partners across the South West of England.
URL:https://counterpoints.org.uk/event/ellipsis-an-audio-walking-tour-in-plymouth/
LOCATION:Plymouth Random Art Corner\, 30 Union Street\, Plymouth\, PL1 3EX\, United Kingdom
CATEGORIES:Audio,Community & Participation,Performance & Dance,Platforma
ATTACH;FMTTYPE=image/png:https://counterpoints.org.uk/wp-content/uploads/2023/07/ellipsis_Overlay-Platforma.png
END:VEVENT
END:VCALENDAR