BEGIN:VCALENDAR
VERSION:2.0
PRODID:-//Counterpoints - ECPv6.15.18//NONSGML v1.0//EN
CALSCALE:GREGORIAN
METHOD:PUBLISH
X-ORIGINAL-URL:https://counterpoints.org.uk
X-WR-CALDESC:Events for Counterpoints
REFRESH-INTERVAL;VALUE=DURATION:PT1H
X-Robots-Tag:noindex
X-PUBLISHED-TTL:PT1H
BEGIN:VTIMEZONE
TZID:Europe/London
BEGIN:DAYLIGHT
TZOFFSETFROM:+0000
TZOFFSETTO:+0100
TZNAME:BST
DTSTART:20240331T010000
END:DAYLIGHT
BEGIN:STANDARD
TZOFFSETFROM:+0100
TZOFFSETTO:+0000
TZNAME:GMT
DTSTART:20241027T010000
END:STANDARD
BEGIN:DAYLIGHT
TZOFFSETFROM:+0000
TZOFFSETTO:+0100
TZNAME:BST
DTSTART:20250330T010000
END:DAYLIGHT
BEGIN:STANDARD
TZOFFSETFROM:+0100
TZOFFSETTO:+0000
TZNAME:GMT
DTSTART:20251026T010000
END:STANDARD
BEGIN:DAYLIGHT
TZOFFSETFROM:+0000
TZOFFSETTO:+0100
TZNAME:BST
DTSTART:20260329T010000
END:DAYLIGHT
BEGIN:STANDARD
TZOFFSETFROM:+0100
TZOFFSETTO:+0000
TZNAME:GMT
DTSTART:20261025T010000
END:STANDARD
END:VTIMEZONE
BEGIN:VEVENT
DTSTART;TZID=Europe/London:20250512T193000
DTEND;TZID=Europe/London:20250512T210000
DTSTAMP:20260422T180552
CREATED:20250423T115531Z
LAST-MODIFIED:20250507T161642Z
UID:10000489-1747078200-1747083600@counterpoints.org.uk
SUMMARY:Sabrin Hasbun - London Book Launch
DESCRIPTION:Join us at Palestine House in London for the launch of Sabrin Hasbun’s new book\, Crossing: A love story between Italy and Palestine\, winner of the inaugural Footnote X Counterpoints Writing Prize. \nSabrin will be in conversation with Hazem Jamjoum\, a Palestinian educator\, translator and editor. \nReserve your free place \nA beautiful and compelling family memoir\, Crossing retraces the love story between Sabrin Hasbun’s Palestinian father and Italian mother\, and the life of her half-Italian\, half-Palestinian family from the 1960s to 2020. After the loss of her mother\, Sabrin tries to renegotiate her mixed identity and understand her mother’s choices which led her from an oppressive childhood in a village in Tuscany to finding love and community activism in Palestine. \n‘Vivid\, compassionate\, captivating\, Sabrin’s writing is both deeply rooted in place and culture\, and transcending borders in its universality and humanity.’\n– Elif Shafak \nThis is a story about overcoming grief and what it means to lose not only loved ones\, but also a place in the world and a sense of belonging.\n‘Sabrin’s writing is captivating\, drawing us warmly into a world that is both different and familiar\, that we want to know about. A special and original voice\, one for our times.’\n– Philippe Sands \n‘A moving and tender story about love and identity\, and a meditation on the people who make us who we are.’\n– Dina Nayeri \nAbout the author:\nSabrin Hasbun was born in Palestine\, spent her childhood in Palestine and Italy\, and now lives in the UK. She holds a PHD in Creative Writing from Bath Spa University and lectures in Creative Writing at Cardiff Met University. \nThe £15\,000 Footnote X Counteproints Writing Prize includes an advance of £5\,000 and a publication agreement with Footnote Press. The prize\, which recognises narrative non-fiction centred around themes of displacement\, identity or resistance\, was developed in association with the Southbank Centre\, and is supported by the John Ellerman Foundation\, Doughty Street Chambers\, Spread the Word and The Bookseller. \nFor further info please contact Hope Ndaba on hope.ndaba@bonnierbooks.co.uk
URL:https://counterpoints.org.uk/event/sabrin-hasbun-london-book-launch/
LOCATION:Palestine House\, London\, United Kingdom
CATEGORIES:Literature & Spoken Word
ATTACH;FMTTYPE=image/jpeg:https://counterpoints.org.uk/wp-content/uploads/2025/03/crossing-copy.jpg
END:VEVENT
BEGIN:VEVENT
DTSTART;TZID=Europe/London:20250531T190000
DTEND;TZID=Europe/London:20250531T220000
DTSTAMP:20260422T180552
CREATED:20250513T095140Z
LAST-MODIFIED:20250513T095814Z
UID:10000500-1748718000-1748728800@counterpoints.org.uk
SUMMARY:So Many Ways To Move
DESCRIPTION:A powerful performance by poetry and electronic music duo chamæleon\, who explore the relationship between art and activism based on their digital platform An Artist’s Manual Against Apartheid. Co-commissioned and supported by Counterpoints\, this event takes place during Shubbak Festival 2025. \nWeaving together sound\, text and imagery\, this multi-media performance offers a journey inward—toward both the self and the collective—framed by the urgent realities of today. The performance reflects on resistance in its many forms\, confronting complicity in a call to recognise and harness our collective strength against oppressive systems. \nchamæleon is a poetry and electronic music duo formed by Palestinian poet Farah Chamma and Brazilian music producer LIEV\, exploring the intersections between spoken word and musical textures. chamæleon dives into the unknown\, the search for belonging\, and the discovery of one’s identity. \nThrough this performance\, Farah & Liev navigate the intersections of the personal and the political. In it they re-assert the power of art—not only to reflect the times but to move with them. They see art as a force of transformation\, a channel for resistance and renewal. \nTickets: \nPrice: £7 (£8.41 with service fee) \nBOOK HERE \nRunning time: 3 hours
URL:https://counterpoints.org.uk/event/so-many-ways-to-move/
LOCATION:Kunstraum\, 21 Roscoe Street\, London\, EC1Y 8PT
CATEGORIES:Literature & Spoken Word,Music,Performance & Dance
ATTACH;FMTTYPE=image/png:https://counterpoints.org.uk/wp-content/uploads/2025/05/Protest-e1747130056396.png
END:VEVENT
END:VCALENDAR