BEGIN:VCALENDAR
VERSION:2.0
PRODID:-//Counterpoints - ECPv6.15.18//NONSGML v1.0//EN
CALSCALE:GREGORIAN
METHOD:PUBLISH
X-WR-CALNAME:Counterpoints
X-ORIGINAL-URL:https://counterpoints.org.uk
X-WR-CALDESC:Events for Counterpoints
REFRESH-INTERVAL;VALUE=DURATION:PT1H
X-Robots-Tag:noindex
X-PUBLISHED-TTL:PT1H
BEGIN:VTIMEZONE
TZID:Europe/London
BEGIN:DAYLIGHT
TZOFFSETFROM:+0000
TZOFFSETTO:+0100
TZNAME:BST
DTSTART:20240331T010000
END:DAYLIGHT
BEGIN:STANDARD
TZOFFSETFROM:+0100
TZOFFSETTO:+0000
TZNAME:GMT
DTSTART:20241027T010000
END:STANDARD
BEGIN:DAYLIGHT
TZOFFSETFROM:+0000
TZOFFSETTO:+0100
TZNAME:BST
DTSTART:20250330T010000
END:DAYLIGHT
BEGIN:STANDARD
TZOFFSETFROM:+0100
TZOFFSETTO:+0000
TZNAME:GMT
DTSTART:20251026T010000
END:STANDARD
BEGIN:DAYLIGHT
TZOFFSETFROM:+0000
TZOFFSETTO:+0100
TZNAME:BST
DTSTART:20260329T010000
END:DAYLIGHT
BEGIN:STANDARD
TZOFFSETFROM:+0100
TZOFFSETTO:+0000
TZNAME:GMT
DTSTART:20261025T010000
END:STANDARD
END:VTIMEZONE
BEGIN:VEVENT
DTSTART;TZID=Europe/London:20251006T180000
DTEND;TZID=Europe/London:20251006T193000
DTSTAMP:20260422T110831
CREATED:20250818T085429Z
LAST-MODIFIED:20250818T085546Z
UID:10000549-1759773600-1759779000@counterpoints.org.uk
SUMMARY:Words of Welcome: In conversation with Marjorie Lotfi and George Szirtes
DESCRIPTION:Join award-winning poets Marjorie Lotfi and George Szirtes in conversation with Peggy Hughes of the National Centre for Writing for an evening of readings and reflection on the idea of sanctuary in poetry. \nThis special event marks the culmination of Words of Welcome\, a multilingual poetry exchange delivered by Norfolk Library and Information Service with Creative Arts East and National Centre for Writing. \nLotfi and Szirtes will read some of their work and share their own personal insights to celebrate the launch of a new collection of poems on the theme of ‘welcome’\, written by visitors to Norfolk’s libraries. \nFree booking \nPresented as part of the Platforma Festival (October 2025) produced by Counterpoints Arts. \n 
URL:https://counterpoints.org.uk/event/words-of-welcome-in-conversation-with-marjorie-lotfi-and-george-szirtes/
LOCATION:Great Yarmouth Library\, The Place\, 37-39 Market Place\, Great Yarmouth\, NR30 1LX\, United Kingdom
CATEGORIES:Literature & Spoken Word,Platforma
ATTACH;FMTTYPE=image/jpeg:https://counterpoints.org.uk/wp-content/uploads/2025/08/Eventotron-Menu-Image-600-x-600px-1.jpg
END:VEVENT
END:VCALENDAR