BEGIN:VCALENDAR
VERSION:2.0
PRODID:-//Counterpoints - ECPv6.15.18//NONSGML v1.0//EN
CALSCALE:GREGORIAN
METHOD:PUBLISH
X-WR-CALNAME:Counterpoints
X-ORIGINAL-URL:https://counterpoints.org.uk
X-WR-CALDESC:Events for Counterpoints
REFRESH-INTERVAL;VALUE=DURATION:PT1H
X-Robots-Tag:noindex
X-PUBLISHED-TTL:PT1H
BEGIN:VTIMEZONE
TZID:Europe/London
BEGIN:DAYLIGHT
TZOFFSETFROM:+0000
TZOFFSETTO:+0100
TZNAME:BST
DTSTART:20240331T010000
END:DAYLIGHT
BEGIN:STANDARD
TZOFFSETFROM:+0100
TZOFFSETTO:+0000
TZNAME:GMT
DTSTART:20241027T010000
END:STANDARD
BEGIN:DAYLIGHT
TZOFFSETFROM:+0000
TZOFFSETTO:+0100
TZNAME:BST
DTSTART:20250330T010000
END:DAYLIGHT
BEGIN:STANDARD
TZOFFSETFROM:+0100
TZOFFSETTO:+0000
TZNAME:GMT
DTSTART:20251026T010000
END:STANDARD
BEGIN:DAYLIGHT
TZOFFSETFROM:+0000
TZOFFSETTO:+0100
TZNAME:BST
DTSTART:20260329T010000
END:DAYLIGHT
BEGIN:STANDARD
TZOFFSETFROM:+0100
TZOFFSETTO:+0000
TZNAME:GMT
DTSTART:20261025T010000
END:STANDARD
END:VTIMEZONE
BEGIN:VEVENT
DTSTART;TZID=Europe/London:20251016T130000
DTEND;TZID=Europe/London:20251016T140000
DTSTAMP:20260422T111011
CREATED:20250830T195240Z
LAST-MODIFIED:20250830T195240Z
UID:10000556-1760619600-1760623200@counterpoints.org.uk
SUMMARY:Food from Home: An Exploration of Food Memories and Identity
DESCRIPTION:From Peterborough Presents: A creative\, participatory workshop exploring connections between food\, memory\, and migration with artist Madhu Manipatruni.\nCo-commissioned and presented as part of the Platforma Festival (October 2025)\, produced by Counterpoints Arts. \nJoin artist Madhu Manipatruni for a creative\, participatory workshop exploring connections between food\, memory\, and migration. Through storytelling we’ll reflect on how food evokes identity\, belonging\, and home. Participants are invited to bring a recipe with personal or cultural significance to share. Together we will create a simple pop-up book that captures memories of food\, recipes and journeys. \nWheelchair accessible room (Howe Room). \nAge 18+ \nFree tea\, coffee and biscuits available \nDelivered by Peterborough Presents and Migrefhealth \nYou can that the opportunity to visit the free Bridging Landscapes II exhibition as part of Platforma Festival \nFull details and free booking \nAbout Platforma in Peterborough \nPlatforma 2025 in Peterborough is produced by 62 Gladstone Street\, a community-rooted arts space in the heart of Peterborough with a particular focus on supporting South Asian and MENA artists. Through exhibitions\, residencies\, and public programmes\, it provides a vital platform for underrepresented voices and fosters meaningful dialogue between artists and the wider community. \nPartners: Counterpoints Arts\, Landmark Theatres\, Peterborough Cultural Alliance\, Metal Peterborough\, Peterborough Presents\, Peterborough Museum\, HELP Charity & the Aziz Foundation \nDedication: “Our programme is dedicated to the innocent men\, women\, and children who have lost their lives\, those who have been displaced by war\, and all those seeking a safe place to call home.” \n62 Gladstone Street’s Platforma programme is supported by Arts Council England as and presented as part of the wider Platforma Festival across the East of England\, produced by Counterpoints Arts.
URL:https://counterpoints.org.uk/event/food-from-home-an-exploration-of-food-memories-and-identity/
LOCATION:Peterborough Museum and Art Gallery\, 51 Priestgate\, Peterborough\, PE1 1LF\, United Kingdom
CATEGORIES:Literature & Spoken Word,Platforma
ATTACH;FMTTYPE=image/jpeg:https://counterpoints.org.uk/wp-content/uploads/2025/08/peterborough-presents.jpeg
END:VEVENT
END:VCALENDAR