BEGIN:VCALENDAR
VERSION:2.0
PRODID:-//Counterpoints - ECPv6.15.18//NONSGML v1.0//EN
CALSCALE:GREGORIAN
METHOD:PUBLISH
X-ORIGINAL-URL:https://counterpoints.org.uk
X-WR-CALDESC:Events for Counterpoints
REFRESH-INTERVAL;VALUE=DURATION:PT1H
X-Robots-Tag:noindex
X-PUBLISHED-TTL:PT1H
BEGIN:VTIMEZONE
TZID:Europe/London
BEGIN:DAYLIGHT
TZOFFSETFROM:+0000
TZOFFSETTO:+0100
TZNAME:BST
DTSTART:20240331T010000
END:DAYLIGHT
BEGIN:STANDARD
TZOFFSETFROM:+0100
TZOFFSETTO:+0000
TZNAME:GMT
DTSTART:20241027T010000
END:STANDARD
BEGIN:DAYLIGHT
TZOFFSETFROM:+0000
TZOFFSETTO:+0100
TZNAME:BST
DTSTART:20250330T010000
END:DAYLIGHT
BEGIN:STANDARD
TZOFFSETFROM:+0100
TZOFFSETTO:+0000
TZNAME:GMT
DTSTART:20251026T010000
END:STANDARD
BEGIN:DAYLIGHT
TZOFFSETFROM:+0000
TZOFFSETTO:+0100
TZNAME:BST
DTSTART:20260329T010000
END:DAYLIGHT
BEGIN:STANDARD
TZOFFSETFROM:+0100
TZOFFSETTO:+0000
TZNAME:GMT
DTSTART:20261025T010000
END:STANDARD
END:VTIMEZONE
BEGIN:VEVENT
DTSTART;TZID=Europe/London:20251017T100000
DTEND;TZID=Europe/London:20251017T130000
DTSTAMP:20260422T111027
CREATED:20250831T101550Z
LAST-MODIFIED:20250831T101550Z
UID:10000562-1760695200-1760706000@counterpoints.org.uk
SUMMARY:Home from Home Poetry Workshop
DESCRIPTION:Join local writer Sue Wallace-Shaddad for a poetry workshop reflecting on the challenges of belonging and consider what makes us who we are\, and how our identities are influenced by others.\nPresented by Suffolk Archives as part of the Platforma Festival (October 2025) produced by Counterpoints Arts. \nFree booking \nAge 16+ \nBeing part of a community and feeling you belong are foundational aspects of human life; they provide stability and a sense of identity. Too often\, reality is rather different. A person may become separated from their community because of personal circumstance\, conflict or war and have to learn how to belong in a different place. People may have links to more than one community through their heritage and feel they have to negotiate who they are\, where they belong. \nIn this workshop you will read and discuss poems and respond to writing prompts drawing on your own experience and that of others. \nPlease bring a photograph or small object to help stimulate your writing.
URL:https://counterpoints.org.uk/event/home-from-home-poetry-workshop/
LOCATION:The Hold\, Ipswich\, IP4 1LN\, United Kingdom
CATEGORIES:Literature & Spoken Word,Platforma
ATTACH;FMTTYPE=image/webp:https://counterpoints.org.uk/wp-content/uploads/2025/08/the-hold.webp
END:VEVENT
END:VCALENDAR