BEGIN:VCALENDAR
VERSION:2.0
PRODID:-//Counterpoints - ECPv6.15.18//NONSGML v1.0//EN
CALSCALE:GREGORIAN
METHOD:PUBLISH
X-ORIGINAL-URL:https://counterpoints.org.uk
X-WR-CALDESC:Events for Counterpoints
REFRESH-INTERVAL;VALUE=DURATION:PT1H
X-Robots-Tag:noindex
X-PUBLISHED-TTL:PT1H
BEGIN:VTIMEZONE
TZID:Europe/London
BEGIN:DAYLIGHT
TZOFFSETFROM:+0000
TZOFFSETTO:+0100
TZNAME:BST
DTSTART:20230326T010000
END:DAYLIGHT
BEGIN:STANDARD
TZOFFSETFROM:+0100
TZOFFSETTO:+0000
TZNAME:GMT
DTSTART:20231029T010000
END:STANDARD
BEGIN:DAYLIGHT
TZOFFSETFROM:+0000
TZOFFSETTO:+0100
TZNAME:BST
DTSTART:20240331T010000
END:DAYLIGHT
BEGIN:STANDARD
TZOFFSETFROM:+0100
TZOFFSETTO:+0000
TZNAME:GMT
DTSTART:20241027T010000
END:STANDARD
BEGIN:DAYLIGHT
TZOFFSETFROM:+0000
TZOFFSETTO:+0100
TZNAME:BST
DTSTART:20250330T010000
END:DAYLIGHT
BEGIN:STANDARD
TZOFFSETFROM:+0100
TZOFFSETTO:+0000
TZNAME:GMT
DTSTART:20251026T010000
END:STANDARD
END:VTIMEZONE
BEGIN:VEVENT
DTSTART;VALUE=DATE:20240617
DTEND;VALUE=DATE:20240624
DTSTAMP:20260423T155317
CREATED:20240405T080626Z
LAST-MODIFIED:20240709T144533Z
UID:10000407-1718582400-1719187199@counterpoints.org.uk
SUMMARY:Refugee Week 2024: Our Home
DESCRIPTION:The theme for Refugee Week 2024 is “Our Home”. From the places we gather to share meals to our collective home\, planet earth: everyone is invited to celebrate what our Our Home means to them. \nRefugee Week is the world’s largest arts & culture festival celebrating the contributions\, creativity and resilience of refugees and people seeking sanctuary. Established in 1998 in the UK\, this annual festival aligns with World Refugee Day\, celebrated globally on June 20th. In 2024\, join us from June 17th to 23rd for a community-powered week! \nRefugee Week is a partnership project coordinated by Counterpoints Arts. It is an open platform\, so anyone can get involved anywhere in the world. \nWe will be publishing our own programme of Refugee Week events in the coming weeks.
URL:https://counterpoints.org.uk/event/refugee-week-2024-our-home/
CATEGORIES:Refugee Week
ATTACH;FMTTYPE=image/jpeg:https://counterpoints.org.uk/wp-content/uploads/2024/04/Our-Home-Poster-1-1-400x566-1.jpg
END:VEVENT
BEGIN:VEVENT
DTSTART;TZID=Europe/London:20240617T120000
DTEND;TZID=Europe/London:20240622T220000
DTSTAMP:20260423T155317
CREATED:20240530T122512Z
LAST-MODIFIED:20240709T144534Z
UID:10000422-1718625600-1719093600@counterpoints.org.uk
SUMMARY:When community is HOME\, at Yorkton Workshops
DESCRIPTION:When community is HOME is a week-long exhibition and a programme of workshops\, performances\, networking\, supper clubs\, podcasts\, kite-flying and communal singing — curated by Counterpoints Arts\, supported by Pearson Lloyd design studio. Counterpoints brings their network of collaborators to Yorkton Workshops to respond to the theme of Our Home through an exploration of the intersection of displacement\, climate justice and wellbeing. \nWe feel privileged to be working in the beautiful gallery. The curated programme is full of opportunity to participate\, meet the artists\, witness talks and performances and eat delicious food… and gather at a time when creatively connecting with friends and strangers feels like an act of self-care and support for others. \nThe creative programme is a set of collaborations with artists\, collectives and organisations. Some are ‘old’ friends and partners\, and others are new to our ever growing network. \nWe are working with: \nClimate Outreach \nUnbound Philanthropy \nEtaf \nNour Alsholi \nAditi Jaganathan \nZafeerah Heesambee \nTasnim Mahdy \nJohn Hunnex \nIn The Mix \nCompass Collective and Sarah Jackson / Nottingham Trent University \nKim Chin \nZhvan Theatre Company \nBosla Arts \nKites in Solidarity \nBint Mbareh \nand others! \nWe will see you at Yorkton Workshops. The programme runs from 17th to 22nd June. Ticketing info for some of the activities will follow shortly. \nImage: Bosla Arts\, The Art Persists podcast\, Yorkton Workshops\, 2023 © Paul Gilbey \n 
URL:https://counterpoints.org.uk/event/when-community-is-home-london-refugee-week-at-yorkton-workshops/
LOCATION:Yorkton Workshops\, 1-3 Yorkton St\, London\, London\, E2 8NH\, United Kingdom
CATEGORIES:Community & Participation,Multi-Art Form,Refugee Week
ATTACH;FMTTYPE=image/jpeg:https://counterpoints.org.uk/wp-content/uploads/2024/05/LRW-OVERLAY-WEBSITE-5.jpg
END:VEVENT
END:VCALENDAR