BEGIN:VCALENDAR
VERSION:2.0
PRODID:-//Counterpoints - ECPv6.15.18//NONSGML v1.0//EN
CALSCALE:GREGORIAN
METHOD:PUBLISH
X-ORIGINAL-URL:https://counterpoints.org.uk
X-WR-CALDESC:Events for Counterpoints
REFRESH-INTERVAL;VALUE=DURATION:PT1H
X-Robots-Tag:noindex
X-PUBLISHED-TTL:PT1H
BEGIN:VTIMEZONE
TZID:Europe/London
BEGIN:DAYLIGHT
TZOFFSETFROM:+0000
TZOFFSETTO:+0100
TZNAME:BST
DTSTART:20240331T010000
END:DAYLIGHT
BEGIN:STANDARD
TZOFFSETFROM:+0100
TZOFFSETTO:+0000
TZNAME:GMT
DTSTART:20241027T010000
END:STANDARD
BEGIN:DAYLIGHT
TZOFFSETFROM:+0000
TZOFFSETTO:+0100
TZNAME:BST
DTSTART:20250330T010000
END:DAYLIGHT
BEGIN:STANDARD
TZOFFSETFROM:+0100
TZOFFSETTO:+0000
TZNAME:GMT
DTSTART:20251026T010000
END:STANDARD
BEGIN:DAYLIGHT
TZOFFSETFROM:+0000
TZOFFSETTO:+0100
TZNAME:BST
DTSTART:20260329T010000
END:DAYLIGHT
BEGIN:STANDARD
TZOFFSETFROM:+0100
TZOFFSETTO:+0000
TZNAME:GMT
DTSTART:20261025T010000
END:STANDARD
END:VTIMEZONE
BEGIN:VEVENT
DTSTART;VALUE=DATE:20250523
DTEND;VALUE=DATE:20250602
DTSTAMP:20260422T203803
CREATED:20250121T121828Z
LAST-MODIFIED:20250501T153317Z
UID:10000473-1747958400-1748822399@counterpoints.org.uk
SUMMARY:Moomin 80 at Southbank Centre
DESCRIPTION:“The Door is Always Open” \nJourney into the marvellous world of the Moomins and discover the famous sights of Moominvalley brought to life at Southbank Centre by the Woodland Tribe and their little helpers ahead of Refugee Week. \nVisit the Moominhouse with its collection of paintings and furniture that fill the house from floor to ceiling\, and take a trip to the Pier\, the Bridge and the Bathing House in a special Moomin staycation. \nWoodland Tribe go all over the UK promoting adventure play and child lead building. You may have seen their work at the Tate Modern\, Compton Verney Art Gallery or leading UK festivals like Glastonbury or Shambala. \nThis installation is co-commissioned and co-produced by Counterpoints Arts and the Southbank Centre\, made possible by the support of Moomin Characters Ltd. in celebration of 80 years since the publication of the first Moomin story. \nIt is one of our four public art commissions for Moomin 80 during Refugee Week. \nFeaturing: \n23 – 26 May: The Build (with invited young people)\n27 May – 1 June Moomin 80 Open House : Explore Woodland Tribe’s Moominhouse by the Thames\n27 May – 1 June Moomin 80 Play\, Make\, Dream :Children\, bring your parents\, carers\, grandparents and everyone in between to help out on this big build.\n28 – 30 May From Afghan Valleys to Moominvalley with Nabil Amin : Printmaking to help decorate the Moomin house\n1 June 12 noon\, Moomin 80: Everybody Is Welcome! : Music\, storytelling and a party fit for Moominvalley \nRead more about our collaboration with Moomin 80 for Refugee Week\, featuring four new public art commissions.
URL:https://counterpoints.org.uk/event/moomin-80-at-southbank-centre/
LOCATION:Riverside Terrace\, Southbank Centre\, London SE1 8XZ\, Southbank Centre\, London\, SE1 8XZ\, United Kingdom
CATEGORIES:Community & Participation,Refugee Week
ATTACH;FMTTYPE=image/webp:https://counterpoints.org.uk/wp-content/uploads/2025/01/Moomin-Blue-House.webp
END:VEVENT
END:VCALENDAR