BEGIN:VCALENDAR
VERSION:2.0
PRODID:-//Counterpoints - ECPv6.15.18//NONSGML v1.0//EN
CALSCALE:GREGORIAN
METHOD:PUBLISH
X-ORIGINAL-URL:https://counterpoints.org.uk
X-WR-CALDESC:Events for Counterpoints
REFRESH-INTERVAL;VALUE=DURATION:PT1H
X-Robots-Tag:noindex
X-PUBLISHED-TTL:PT1H
BEGIN:VTIMEZONE
TZID:Europe/London
BEGIN:DAYLIGHT
TZOFFSETFROM:+0000
TZOFFSETTO:+0100
TZNAME:BST
DTSTART:20240331T010000
END:DAYLIGHT
BEGIN:STANDARD
TZOFFSETFROM:+0100
TZOFFSETTO:+0000
TZNAME:GMT
DTSTART:20241027T010000
END:STANDARD
BEGIN:DAYLIGHT
TZOFFSETFROM:+0000
TZOFFSETTO:+0100
TZNAME:BST
DTSTART:20250330T010000
END:DAYLIGHT
BEGIN:STANDARD
TZOFFSETFROM:+0100
TZOFFSETTO:+0000
TZNAME:GMT
DTSTART:20251026T010000
END:STANDARD
BEGIN:DAYLIGHT
TZOFFSETFROM:+0000
TZOFFSETTO:+0100
TZNAME:BST
DTSTART:20260329T010000
END:DAYLIGHT
BEGIN:STANDARD
TZOFFSETFROM:+0100
TZOFFSETTO:+0000
TZNAME:GMT
DTSTART:20261025T010000
END:STANDARD
END:VTIMEZONE
BEGIN:VEVENT
DTSTART;VALUE=DATE:20250531
DTEND;VALUE=DATE:20250622
DTSTAMP:20260422T184642
CREATED:20250501T151229Z
LAST-MODIFIED:20250602T102852Z
UID:10000495-1748649600-1750550399@counterpoints.org.uk
SUMMARY:What Will We Do Without Exile?
DESCRIPTION:What Will We Do Without Exile? by Basel Zaraa is an immersive\, multi-sensory installation that creates a lush world within a refugee tent\, inviting audiences to imagine life beyond occupation. \nIt is one of our four public art commissions for Moomin 80 during Refugee Week. \nVisit Bradford 2025 Uk City of Culture for full visit details including opening times. \nWhat Will We Do Without Exile\nBy Basel Zaraa \nIn collaboration with: Emily Churchill Zaraa \nSound artist: Pete Churchill \nNewspaper Illustrator and Designer: Charlotte Bailey \nFeaturing the voice of Sahar Qawasmi \nWith thanks to all the interview participants. \nWhile generations of Palestinian bodies have been forced into tents\, their imaginations have never stopped reaching for liberation. What Will We Do Without Exile? pays tribute to imagination as resistance\, as it celebrates the natural and cultural richness of Palestine\, past\, present and future. Through sight\, touch\, sound and stories\, audience members are transported to a reality where the land and its people are finally free. \nWhat Will We Do Without Exile? honours the struggle and sacrifice of colonised people\, and imagines a world where they have not only won their liberation\, but where their resilience and ingenuity are recognised as invaluable examples for humanity in crisis. \nBasel Zaraa is a UK-based Palestinian artist whose work uses the senses to bring audiences closer to experiences of exile and war\, and who creates art in order to face\, express and understand the trauma that his community lives with. His current installation\, ‘What Will We Do Without Exile?’ is an immersive\, multi-sensory installation that creates a lush world within a refugee tent\, inviting audiences to imagine life beyond occupation and war. \nSince 2022 he has also been touring ‘Dear Laila’\, an intimate\, a one-person-at-a-time installation centred around the recreation of a destroyed family home\, which received the ZKB Audience Award 2023. His previous work includes ‘As Far As My Fingertips Take Me’\, a collaboration with Tania El Khoury\, which was awarded Outstanding Production at the Bessie Awards in 2019. His work has been shown at over 50 venues and festivals across five continents. \nWhat Will We Do Without Exile? is co-commissioned and co-produced with Counterpoints Arts and Bradford 2025 UK City of Culture and made possible by Moomin Characters Ltd as part of the  celebration of the 80th anniversary of the first Moomins book. \nRead a text from the opening of the installation on 31 May 2025
URL:https://counterpoints.org.uk/event/what-will-we-do-without-exile/
LOCATION:The Beacon – Bowling Park\, 263 Bowling Hall Rd\, Bradford\, BD4 7TL
CATEGORIES:Refugee Week,Visual Arts
ATTACH;FMTTYPE=image/jpeg:https://counterpoints.org.uk/wp-content/uploads/2025/05/without-exil-1.jpg
END:VEVENT
BEGIN:VEVENT
DTSTART;TZID=Europe/London:20250607T190000
DTEND;TZID=Europe/London:20250607T210000
DTSTAMP:20260422T184642
CREATED:20250506T170516Z
LAST-MODIFIED:20250506T170516Z
UID:10000497-1749322800-1749330000@counterpoints.org.uk
SUMMARY:The Music of Asia Minor: Violin Legends Semsis & Ogdontakis
DESCRIPTION:This year’s Refugee Week London\, in the 2025 iteration of Rebetiko Carnival Festival\, violonist Kyriakos Gouventas and a group of brilliant musicians present the work of master violinists Dimitris Semsis (Salonikios) and Ioannis Dragatsis (Ogdontakis). Reviving the precious music of Santourovioli\, the combination of violin\, santur and guitar\, this evening will introduce you to the early rebetiko music of Asia Minor.  \nDuring the great population movement in the southern Balkans in the early 20th century\, seminal artists from Constantinople\, Smyrna and the coasts of Asia Minor settled on the Greek islands and ports. Among them\, great music masters such as Dimitris Semsis (Salonikios) and Ioannis Dragatsis (Ogdontakis) came to Greece\, bringing along their sound and becoming leading figures in the local music scene.   \nTheir captivating performances and recordings made them legendary figures in the history of world music. The main instruments in Early Rebetika are violin\, santur\, guitar\, kanun\, oud and tampoura. Santurovioli is a minimal combination of violin\, santur and guitar. These three form an impressively functional musical system where the microtonal use of the violin shines brightly in the rich harmonics of the santur over a solid bass-guitar rhythmical background. Today\, there are only a few grand masters in the genre and Kyriakos Gouventas is considered the leading figure worldwide. \n \n  \nTickets\n£16/12 concession or £20 at the door\nBooking via Ticket Tailor or 020 7487 5060 \n \n  \nCo–organised with The Hellenic Centre and Rebetiko Carnival Festival 2025.\nPart of London Refugee Week Festival 2025. \nCounterpoints Arts is proud to continue its collaboration with The Hellenic Centre and be part of the Rebetiko Carnival\, a community organisation dedicated to widening access to music and supporting people in need. \n  \nAdditional information \n\nKyriakos Gouventas\nKyriakos Gouventas records hundreds of performances from China to America\, Africa and Australia\, as well as collaborations with world famous artists from all over the world. Gouventas\, the “Genius of the violin” has been teaching modes and maqams to international top-class musicians creating a musical scene of his own and a great following worldwide.  \nHaving studied violin at the State Conservatory he then worked with the State Orchestra of Thessaloniki and in various chamber music ensembles. At the same time\, he was active in Greek music (dimotiko\, rebetiko\, smyrnaiko\, etc) and recently decided to turn his attentions entirely to traditional music. He is a member of the Ensemble of Traditional Music of the municipality of Thessaloniki. He has participated in over 100 recordings/CDs of traditional Greek music and modern ‘entechno’ (a genre of Greek music). He frequently collaborates with the most acknowledged traditional Greek dance groups\, such as the Lykeion Ellinidon\, and plays in regional traditional festivals all over Greece. He is a founding-member of the group Primavera en Salonico\, the group which since 1996 has played with the well-known Greek singer Savina Yannatou all over the world. He is the preferred violinist of the best Greek singers and musicians\, for concerts\, recordings and world tours. Last year seminars in Weimar\, Granada\, London (SOAS)\, Ydra rebetiko conference. He teaches in Thessaloniki at Macedonia University of Popular Music Department and in Athens\, at Athens Conservatoire.  \n  \n\n         \n \n\n 
URL:https://counterpoints.org.uk/event/the-music-of-asia-minor-violin-legends-semsis-ogdontakis/
LOCATION:Hellenic Centre\, 16-18 Paddington Street\, London\, W1U 5AS
CATEGORIES:Music,Refugee Week
ATTACH;FMTTYPE=image/jpeg:https://counterpoints.org.uk/wp-content/uploads/2025/05/Copy-of-London-Refugee-Week-2025.jpg
END:VEVENT
END:VCALENDAR