BEGIN:VCALENDAR
VERSION:2.0
PRODID:-//Counterpoints - ECPv6.15.18//NONSGML v1.0//EN
CALSCALE:GREGORIAN
METHOD:PUBLISH
X-WR-CALNAME:Counterpoints
X-ORIGINAL-URL:https://counterpoints.org.uk
X-WR-CALDESC:Events for Counterpoints
REFRESH-INTERVAL;VALUE=DURATION:PT1H
X-Robots-Tag:noindex
X-PUBLISHED-TTL:PT1H
BEGIN:VTIMEZONE
TZID:Europe/London
BEGIN:DAYLIGHT
TZOFFSETFROM:+0000
TZOFFSETTO:+0100
TZNAME:BST
DTSTART:20240331T010000
END:DAYLIGHT
BEGIN:STANDARD
TZOFFSETFROM:+0100
TZOFFSETTO:+0000
TZNAME:GMT
DTSTART:20241027T010000
END:STANDARD
BEGIN:DAYLIGHT
TZOFFSETFROM:+0000
TZOFFSETTO:+0100
TZNAME:BST
DTSTART:20250330T010000
END:DAYLIGHT
BEGIN:STANDARD
TZOFFSETFROM:+0100
TZOFFSETTO:+0000
TZNAME:GMT
DTSTART:20251026T010000
END:STANDARD
BEGIN:DAYLIGHT
TZOFFSETFROM:+0000
TZOFFSETTO:+0100
TZNAME:BST
DTSTART:20260329T010000
END:DAYLIGHT
BEGIN:STANDARD
TZOFFSETFROM:+0100
TZOFFSETTO:+0000
TZNAME:GMT
DTSTART:20261025T010000
END:STANDARD
BEGIN:DAYLIGHT
TZOFFSETFROM:+0000
TZOFFSETTO:+0100
TZNAME:BST
DTSTART:20270328T010000
END:DAYLIGHT
BEGIN:STANDARD
TZOFFSETFROM:+0100
TZOFFSETTO:+0000
TZNAME:GMT
DTSTART:20271031T010000
END:STANDARD
END:VTIMEZONE
BEGIN:VEVENT
DTSTART;TZID=Europe/London:20250621T110000
DTEND;TZID=Europe/London:20250621T160000
DTSTAMP:20260423T003849
CREATED:20250616T100322Z
LAST-MODIFIED:20250616T132908Z
UID:10000523-1750503600-1750521600@counterpoints.org.uk
SUMMARY:V&A: Threads of Joy and Community
DESCRIPTION:A day of family-friendly workshops and performances to celebrate Refugee Week\, inspired by themes of joy and small acts of kindness. \n  \n“you’re a man now\, boy”   by Isaac Ouro-Gnao\n13:00-13:20 and 15:00-15:20 at the Raphael Gallery\nyou’re a man now\, boy is a dance performance weaving hip hop\, contemporary\, and magical realism into an empathetic experience. Through voice and dynamic movement\, it explores the joy\, the hardship\, and the community found through the healing of mental health difficulties and trauma. \n\n\n\n\n  \nCollaging workshop with Community Arts Box\n\n11:00 – 16:00 at the Learning Centre\nFree drop in collaging workshop focussing on this years Refugee Week theme: Community as a Superpower \n\n\n\n\n\n  \nV&A have curated a day long of family friendly Refugee Week activities\, check out the full programme here:
URL:https://counterpoints.org.uk/event/va-threads-of-joy-and-community/
LOCATION:V&A\, Cromwell Rd\, London\, SW7 2RL
CATEGORIES:Community & Participation,Refugee Week
ATTACH;FMTTYPE=image/jpeg:https://counterpoints.org.uk/wp-content/uploads/2025/06/Threads-of-Joy-and-Community.jpeg
END:VEVENT
BEGIN:VEVENT
DTSTART;TZID=Europe/London:20250623T183000
DTEND;TZID=Europe/London:20250623T220000
DTSTAMP:20260423T003849
CREATED:20250609T160956Z
LAST-MODIFIED:20250609T161155Z
UID:10000520-1750703400-1750716000@counterpoints.org.uk
SUMMARY:Paired by Sup?
DESCRIPTION:For Refugee Week\, SUP? are excited to unveil a new concept of their supper club series in partnership with Counterpoints and Refugee Week UK\, pairing together our favourite chefs from the refugee community with musicians of a shared background.\n\nFor this first edition\, we are incredibly excited to invite rapper\, Chef and TV personality Big Zuu as he joins heads with Chef Majeda Khoury (The Syrian Sunflower) to curate a one off bespoke menu\, celebrating their shared Levantine heritage at much loved South London venue\, Jumbi.\n\nJoin us for a warm evening championing the power of food and music in bringing communities together\, as Big Zuu and Majeda explore the this year’s Refugee Week theme ‘Community as a superpower’\, whilst raising awareness for the displaced experience and fundraising for the South London Refugee Association.Expect the best of Levantine classics and flavours reimagined\,  music\, prize auctions and conversations around cultural connections in the hopes to offer tangible takeaways on supporting local refugee communities.\n\nWhat’s included:\n\nFood\nExpect a generous 3 course menu of Levantine classics curated by Big Zuu and cooked by Majeda. Veg and Non veg options available at checkout.Drinks will also be available at Jumbi’s bar.\n\nPay it forward\nAs part of our ‘pay it forward’ system\, we reserve 5 seats for asylum seekers from the local hostels to attend the supper club\, so if you can’t make the event and want to support\, there’s an option to purchase their supper club ticket  – or you can make a contribution towards it if you’re already joining!\n\nTickets are limited\, make sure you don’t miss out and reserve your seat now! BOOK HERE!\n\nIf you would also like to donate directly to South London Refugee Association click here.\n\nAllergy information: As the kitchen is used for multiple settings\, unfortunately nothing can be guaranteed to be allergen or gluten-free – if you have any concerns at all about allergies or intolerances\, please get in touch: contact@supsupperclub.com.\n\nAbout SUP?\n\nBorne from a desire to dispel myths around immigration\, SUP? is a non profit organisation empowering displaced people through sharing food\, music and solidarity. We host supper club events to create consciousness-raising conversations that highlight the experience of people who are forced to migrate countries\, whilst celebrating their cultures\, through their own lens.\n\nAbout Majeda\n\nMajeda Khouri is a Syrian chef and human rights activist\, also known as the Syrian Sunflower is dedicated to bringing the vibrant flavours of Middle East to London. Majeda sought refuge in the UK in 2017 and began catering to integrate into British society\, share her rich culture\, and support human rights causes. She used food as a way to tell her story and raise awareness about the situation in Syria.\nAbout Big Zuu\nBig Zuu is a London based Rapper\, Grime artist\, TV Chef & Entrepreneur has made his mark with a dynamic blend of music and entertainment\, whilst remaining a vocal advocate for refugees and marginalised communities.\nAbout Jumbi\nWorld renowned Jumbi is a hi-fi music bar and restaurant in the heart of Peckham known for celebrating the sounds and flavours of the African-Caribbean diaspora.\n\nMake sure to arrive on time on the night and help us highlight the true power of community through shared spaces. Sahtein!
URL:https://counterpoints.org.uk/event/paired-by-sup/
LOCATION:Jumbi\, Unit 4.1\, Copeland Park\, 133 Copeland Rd\, London SE15 3SN
CATEGORIES:Community & Participation,Refugee Week
ATTACH;FMTTYPE=image/jpeg:https://counterpoints.org.uk/wp-content/uploads/2025/06/IMG-20250609-WA0001.jpg
END:VEVENT
BEGIN:VEVENT
DTSTART;TZID=Europe/London:20250625T130000
DTEND;TZID=Europe/London:20250625T160000
DTSTAMP:20260423T003849
CREATED:20250609T151749Z
LAST-MODIFIED:20250609T151749Z
UID:10000522-1750856400-1750867200@counterpoints.org.uk
SUMMARY:Moving Roots: Diaspora Communities x Climate Action
DESCRIPTION:To celebrate Refugee Week and London Climate Action Week\, Climate Outreach is hosting an event exploring the interconnections between climate action\, migration and diaspora communities. \nAccording to the latest RACE report*\, the UK’s climate sector remains one of the least diverse in the UK\, despite climate change impacting all of us. We know the UK’s society is made up of many diverse diaspora communities connected to cultures\, lands and communities all over the world. \nMany of these groups are playing a key role in ensuring the climate change conversation includes their community’s voices and that climate action is shaped by their unique challenges and experiences. \nIn partnership with Counterpoints Arts\, this event aims to highlight the integral role diaspora communities play in supporting and providing agency to those impacted by climate change and climate-driven migration\, despite often not being included in the conversation. \nWe will also showcase the creative and unique ways diaspora members and leaders are taking climate action and making vital links to their cultures and community spaces\, ensuring the climate conversation includes people from all backgrounds and represents diverse experiences. \nJoin the event to hear from: \n– Fahmida Miah\, Climate Outreach \n– Farah Ahmed\, Our Diaspora Futures \n– Jebi Rahman\, Bangladeshi Diaspora Climate Action (BDCA) \n– Zamzam Ibrahim\, Somalis for Sustainability \n– Ania Drewniok\, POMOC \nAlongside the panel discussion\, there will be delicious plant-based food served\, an artistic performance\, and opportunities to connect with others in the climate and migrant justice space! \nSign up before 20th June to attend. \nBOOK HERE! \n* Racial Action for the Climate Emergency (www.race-report.uk) \n* Photo credit: Photo by Zen Chung from Pexels: https://www.pexels.com/photo/women-gardening-5529587/
URL:https://counterpoints.org.uk/event/moving-roots-diaspora-communities-x-climate-action/
LOCATION:Pelican House\, 144 Cambridge Heath Road London E1 5QJ
CATEGORIES:Community & Participation,Refugee Week,Sustainability & Climate Justice
ATTACH;FMTTYPE=image/jpeg:https://counterpoints.org.uk/wp-content/uploads/2025/06/https___cdn.evbuc_.com_images_1039846933_1665038700143_1_original.jpeg
END:VEVENT
BEGIN:VEVENT
DTSTART;TZID=Europe/London:20250627T183000
DTEND;TZID=Europe/London:20250627T200000
DTSTAMP:20260423T003849
CREATED:20250521T113622Z
LAST-MODIFIED:20250521T120437Z
UID:10000512-1751049000-1751054400@counterpoints.org.uk
SUMMARY:No Direction Home @ Cutty Sark
DESCRIPTION:Hosted by Selam Amare\, with comedians Roann Hassani McCloskey\, Alaa Shehada and Victor Rios. \n6:30pm\, Cutty Sark\, pay what you can \nThis is part of a series of events at Royal Museums Greenwich to mark Refugee Week. \nEvent timings: \n\nDoors and bar open: 5.45pm\nEvent starts: 6.30pm\nEvent finishes: 8pm\n\nHost: A proud Ethiopian\, Selam Amare is an entrepreneur and comedian. Selam is the founder of Selam Le Ethiopia and Azmari Bet – an initiative that promotes Ethiopian culture through music\, performance and food. Selam has created a very funny and charming storytelling persona of her own\, sharing experiences of both Ethiopia and England. \nRoann Hassani McCloskey has over 10 years’ experience within the creative industries occupying many roles. They have worked as an award-winning writer (My Father the Tantric Masseur and Who Murdered My Cat?)\, director\, producer\, script supervisor\, production consultant and as an actor\, most recently at Shakespeare’s Globe (Macbeth). Roann is Algerian-British\, Queer and many other things that have led them to focus their storytelling on the heart and humour that runs through tragedy. Their work centres their curiosity and desire to bring stories left at the margins to the centre where they belong. \nAlaa Shehada is a Palestinian actor\, comedian and a graduate of The Freedom Theatre acting school in Jenin camp\, a Palestinian theatre company nominated for the Nobel Peace Prize in 2024. He is also the co-founder of the Palestine Comedy Club – a platform for Palestinian comedians to share their stories\, humour and Palestinian culture. \nNominated for the TV Collective’s Breakthrough Leaders Programme 2025\, Victor Rios is a performer\, artist\, theatre facilitator and filmmaker. Victor is the co-founder of LatinX Actors UK\, a database of Latin-American actors and performers based in the UK. He has worked with organisations including the Royal Festival Hall\, Red Cross\, Young Roots and Brixton House. \nThe No Direction Home comedy collective has been running since 2019 to support new comics from refugee and migrant backgrounds\, featuring workshops\, expert tuition and gigs around the country. \nNo Direction Home is produced by Counterpoints Arts as part of our PopChange initiative.
URL:https://counterpoints.org.uk/event/no-direction-home-cutty-sark/
LOCATION:Cutty Sark\, King William Walk\, London\, SE10 9HT
CATEGORIES:Comedy,London Refugee Week,Pop Culture,Refugee Week
ATTACH;FMTTYPE=image/jpeg:https://counterpoints.org.uk/wp-content/uploads/2025/05/NDH.jpg
END:VEVENT
BEGIN:VEVENT
DTSTART;TZID=Europe/London:20250629T000000
DTEND;TZID=Europe/London:20250629T000000
DTSTAMP:20260423T003849
CREATED:20250520T065632Z
LAST-MODIFIED:20250626T122151Z
UID:10000505-1751155200-1751155200@counterpoints.org.uk
SUMMARY:Dokhol দখল ’84: Housing Policy and Migration (Postponed)
DESCRIPTION:This event has been postponed from 29 June; the new date will be announced here shortly. \nA panel of artists\, activists and architects share stories of housing activism in past movements and present-day campaigns. \nArtist Sonia Uddin’s project Dokhol দখল ’84 is an important starting point which looks at how Bengali homeless families who were housed in appalling conditions in hostels took on the Council\, occupying Camden Town Hall in 1984. The collective organising power of this movement was captured in the archival materials which she shares as an important\, historical archive. \nHousing policy affects and applies to many across the country\, including migrants. Join us\, creatives and activists\, on the day to learn about community empowerment and how to harness collective action in order to fight for housing as a basic human right that should be available to all. \nFree. \nIn partnership with Southbank Centre and part of Refugee Week 2025.
URL:https://counterpoints.org.uk/event/dokhol-%e0%a6%a6%e0%a6%96%e0%a6%b2-84-housing-policy-and-migration/
LOCATION:Queen Elizabeth Foyer\, Queen Elizabeth Hall\, Southbank Centre\, London SE1 8XX
CATEGORIES:Community & Participation,London Refugee Week,Refugee Week
ATTACH;FMTTYPE=image/jpeg:https://counterpoints.org.uk/wp-content/uploads/2025/05/Dokhol-at-Southbank-Centre.jpg
END:VEVENT
BEGIN:VEVENT
DTSTART;TZID=Europe/London:20250629T150000
DTEND;TZID=Europe/London:20250629T160000
DTSTAMP:20260423T003849
CREATED:20250520T071030Z
LAST-MODIFIED:20250520T071030Z
UID:10000506-1751209200-1751212800@counterpoints.org.uk
SUMMARY:Babylon Albion
DESCRIPTION:A new voice on nature and belonging\, writer and artist Dalia Al-Dujaili delves into the layered ties between land\, myth and identity. \n\n‘Whoever said nature is still has never watched the seasons migrate.’ \nA lyrical and vivid new work\, Babylon Albion offers a poetic reflection on belonging – not only to a place or a people\, but to the stories that bind them together. \nDrawing from Arab and Islamic mythology alongside English folklore and the Christian pastoral tradition\, Al-Dujaili moves between the real and the mythical – from date palms to oak trees\, from Lamassu to unicorns – inviting us to rethink how we connect with place and with the living world around us. \nIt is\, in many ways\, a love letter – to Britain\, to Iraq and to the earth we all share. It gestures towards a different kind of nativeness: one shaped by layers\, by openness\, and by the restless hum of history\, myth\, and movement. \n\n\nDalia Al-Dujaili is an Iraqi-British writer\, editor and producer based in London. She is the online editor of The British Journal of Photography. Her writing has appeared in the Guardian\, Dazed\, GQ and more. She is the founder of The Road to Nowhere Magazine and in 2023 she was the Producer of Refugee Week. She holds an MA Hons in English Literature from the University of Edinburgh. \nSaqi Books is a leading independent publishing house of trade and academic books on the Middle East and North Africa. Founded in London in 1983\, but with its roots in Lebanon\, Saqi’s publishing programme has led to a rigorous reassessment of Arab cultural heritage. Saqi has been at the forefront of establishing Middle Eastern culture in the UK and beyond for more than four decades. \nSaqi’s publishing – encompassing art\, photography and cookery books\, language\, literature and philosophy\, history and current affairs and much more – is recognised all over the world. They offer an independent platform for writers and artists from all places and cultures. Their authors have attained international prominence not only for the quality of their prose\, but for their authoritative and innovative contributions to public debate. \nSaqi was awarded the British Book Industry Award for Diversity in Literature\, the IPG Diversity Award and the Arab British Culture and Society award. \nTickets: £10 +£3.50 booking fee. Concessions 25%. \nBOOK HERE. \nIn partnership with Southbank Centre and Saqi Books. Part of Refugee Week 2025.
URL:https://counterpoints.org.uk/event/babylon-albion/
LOCATION:Purcell Room\, Queen Elizabeth Hall\, Southbank Centre\, London SE1 8XX
CATEGORIES:Literature & Spoken Word,London Refugee Week,Refugee Week
ATTACH;FMTTYPE=image/jpeg:https://counterpoints.org.uk/wp-content/uploads/2025/05/Babylon-Albion-at-Southbank-1.jpg
END:VEVENT
BEGIN:VEVENT
DTSTART;TZID=Europe/London:20260225T103000
DTEND;TZID=Europe/London:20260225T120000
DTSTAMP:20260423T003849
CREATED:20260116T120331Z
LAST-MODIFIED:20260116T120331Z
UID:10000589-1772015400-1772020800@counterpoints.org.uk
SUMMARY:Refugee Week 2026 Conference (Online)
DESCRIPTION:Join us for the Refugee Week 2026 Conference and find out how to get involved in this year’s festival!\nDo you want to find out how you can get involved in this year’s Refugee Week? \nSign up on Eventbrite \nAre you passionate about how arts\, culture\, sports and community activities can help us move together towards a shared goal and shape hopeful futures for all? \nJoin us for the Refugee Week 2026 Conference and find out the answer to these questions and more! \nThe Refugee Week conference is for anyone who is interested in taking part in Refugee Week\, the world’s largest arts & culture festival celebrating the contributions\, resilience and creativity of refugees. \nWhether you’ve been part of Refugee Week for years or are interested in getting involved for the first time\, everyone is welcome! \nThe Refugee Week 2026 Conference is taking place online\, so join us from wherever you are in the world. \nThe conference will be followed by an optional Q&A and an opportunity to network. Please sign up for this session separately here. \nRefugee Week 2026 \nThis year’s Refugee Week is taking place from 15th to 21st June\, and anyone can take part by:\n(1) supporting their local events\n(2) taking part in simple acts\n(3) holding their own event or activity (big or small!) \nThe theme of Refugee Week 2026 is Courage.
URL:https://counterpoints.org.uk/event/refugee-week-2026-conference-online/
CATEGORIES:Refugee Week
ATTACH;FMTTYPE=image/jpeg:https://counterpoints.org.uk/wp-content/uploads/2026/01/RW-Conference-2025.jpeg
END:VEVENT
BEGIN:VEVENT
DTSTART;TZID=Europe/London:20260225T103000
DTEND;TZID=Europe/London:20260225T133000
DTSTAMP:20260423T003849
CREATED:20260218T095043Z
LAST-MODIFIED:20260218T101022Z
UID:10000598-1772015400-1772026200@counterpoints.org.uk
SUMMARY:Refugee Week 2026 Conference (online)
DESCRIPTION:Join us for the Refugee Week 2026 Conference and find out how to get involved in this year’s festival!\nDo you want to find out how you can get involved in this year’s Refugee Week? \nAre you passionate about how arts\, culture\, sports and community activities can help us move together towards a shared goal and shape hopeful futures for all? \nJoin us for the Refugee Week 2026 Conference and find out the answer to these questions and more! \nFull details and free booking \nThe Refugee Week conference is for anyone who is interested in taking part in Refugee Week\, the world’s largest arts & culture festival celebrating the contributions\, resilience and creativity of refugees. \nWhether you’ve been part of Refugee Week for years or are interested in getting involved for the first time\, everyone is welcome! \nThe Refugee Week 2026 Conference is taking place online\, so join us from wherever you are in the world. \nRefugee Week 2026\nThis year’s Refugee Week is taking place from 15th to 21st June\, and anyone can take part by: \n(1) supporting their local events\n(2) taking part in simple acts\n(3) holding their own event or activity (big or small!) \nThe theme of Refugee Week 2026 is Courage.
URL:https://counterpoints.org.uk/event/refugee-week-2026-conference-online-2/
CATEGORIES:Refugee Week
ATTACH;FMTTYPE=image/png:https://counterpoints.org.uk/wp-content/uploads/2026/02/rw-conference-2026.png
END:VEVENT
BEGIN:VEVENT
DTSTART;TZID=Europe/London:20260414T103000
DTEND;TZID=Europe/London:20260414T120000
DTSTAMP:20260423T003849
CREATED:20260330T144238Z
LAST-MODIFIED:20260330T145225Z
UID:10000610-1776162600-1776168000@counterpoints.org.uk
SUMMARY:Take Part in Refugee Week
DESCRIPTION:A partnership event exploring Refugee Week 2026 \n\n\n\n\nJoin this event to learn more about Refugee Week and the intersection of arts\, mental health and displacement with Counterpoints Arts. \nRefugee Week is the world’s largest arts and culture festival celebrating the contributions\, creativity and resilience of refugees and people seeking sanctuary. Refugee Week 2026 will take place from 15–21 June and will explore the theme Courage\, marking the 75th anniversary of the Refugee Convention. \nThe session will include a case study and practical guidance on embedding good mental health practice when planning Refugee Week events or working with people from displaced backgrounds. \nSign up to the event here  \nThis event is a partnership between Counterpoints Arts and a collective of UK creative health networks: The Culture\, Health & Wellbeing Alliance; London Arts and Health; Arts\, Culture\, Health & Wellbeing Scotland; the Wales Arts\, Health & Wellbeing Network; the Northern Ireland Creative Health Network and Arts Care. \n\n\n\n\nAgenda\n\n\n\n10:30 AM – 10:40 AM \nWelcome & housekeeping\n\nCHWA\n\n10:40 AM – 10:55 AM \n\n\nAbout the Week\n\nCounterpoints\n\nAbout the Week – and how you can take part \n\n\n10:55 AM – 11:05 AM \nCase study\n11:05 AM – 11:20 AM \n\n\nCounterpoints + Mental Health Guidebook\n\nCounterpoints\n\n11:20 AM – 11:45 AM \n\n\nDiscussion & Q&A\n11:45 AM – 12:00 PM \n\n\nClosing remarks
URL:https://counterpoints.org.uk/event/take-part-in-refugee-week/
LOCATION:Online via Zoom\, via Counterpoints 128 Hoxton Street\, London\, N1 6SH\, United Kingdom
CATEGORIES:Mental Health,Refugee Week
ATTACH;FMTTYPE=image/webp:https://counterpoints.org.uk/wp-content/uploads/2026/03/Courage.webp
END:VEVENT
BEGIN:VEVENT
DTSTART;TZID=Europe/London:20260615T000000
DTEND;TZID=Europe/London:20260621T000000
DTSTAMP:20260423T003849
CREATED:20260401T162538Z
LAST-MODIFIED:20260401T162824Z
UID:10000612-1781481600-1782000000@counterpoints.org.uk
SUMMARY:Refugee Week 15-21 June 2026
DESCRIPTION:Refugee Week is the world’s largest arts and culture festival celebrating the contributions\, creativity and resilience of refugees and people seeking sanctuary.\nEstablished in the UK in 1998\, Refugee Week is co-ordinated by Counterpoints Arts and takes place every year around World Refugee Day (20th June). It has grown into a global movement with over 2 million participants\, across over 20 countries. Through an exciting programme of thousands of events\, activities and media campaigns\, Refugee Week brings together people from different backgrounds to connect beyond labels\, and foster a deeper understanding of why people are displaced\, and the challenges they face when seeking safety. \nRefugee Week 2026 will be 15-21st June with the theme of Courage. \nBy providing a platform for people who have sought sanctuary to share their experiences\, perspectives and creative work on their own terms\, our vision is for refugees and asylum seekers to be able to live safely within inclusive and resilient communities\, where they can continue to make a valuable contribution. \nThis year\, Quentin Blake’s joyful illustrations will sit at the centre of the Simple Acts campaign — a series of nine everyday actions anyone can take to show solidarity with refugees and help build more welcoming communities. Blake’s bright\, playful drawings will appear on postcards\, posters and other materials for communities\, schools\, libraries \, arts organisations and individuals to use at their own events. \nRead more about Refugee Week\, including how you can take part.
URL:https://counterpoints.org.uk/event/refugee-week-15-21-june-2026/
CATEGORIES:Refugee Week
ATTACH;FMTTYPE=image/jpeg:https://counterpoints.org.uk/wp-content/uploads/2026/04/Screenshot-2026-04-01-at-16.57.48.jpg
END:VEVENT
BEGIN:VEVENT
DTSTART;TZID=Europe/London:20260626T193000
DTEND;TZID=Europe/London:20260626T205000
DTSTAMP:20260423T003849
CREATED:20260324T155827Z
LAST-MODIFIED:20260325T125814Z
UID:10000607-1782502200-1782507000@counterpoints.org.uk
SUMMARY:It Sounds Like Courage: Music and Solidarity
DESCRIPTION:A celebration of music and spoken word shaped by migration – brought together by courageous creative talents for Refugee Week.\nCo-curated by Southbank Centre with Anoushka Shankar and Counterpoints Arts\, It Sounds Like Courage brings a unique blend of artists who stand in solidarity with displaced people all over the world. \nFull details and booking via the Southbank Centre website. \nConnected by the unifying theme of ‘courage’\, the night features music and poetry born from generations of migration\, mapping the sounds and creativity that grew out of resistance movements. \nFeaturing artists with lived experience of displacement\, musicians with migrant heritage and high-profile allies in the fight for justice and equality\, It Sounds Like Courage is a night to imagine new possibilities together\, with community and solidarity at its centre. \nHosted by comedian Nish Kumar\, with performances from singer and flautist Nai Barghouti with the London Contemporary Orchestra\, Mozambican rapper MoYah and spoken word from Nikita Gill and Salena Godden\, with more to be announced. \nThis event sits at the heart of Refugee Week during our 75th anniversary year and is presented by Southbank Centre in partnership with Counterpoints Arts. \nAnoushka Shankar. Photo by Laura Lewis
URL:https://counterpoints.org.uk/event/it-sounds-like-courage-music-and-solidarity/
LOCATION:Royal Festival Hall\, Southbank Centre\, SE1 8XX
CATEGORIES:Music,Refugee Week
ATTACH;FMTTYPE=image/jpeg:https://counterpoints.org.uk/wp-content/uploads/2026/03/Email_1-4d0e5aae-1e64-4cf2-ad83-b0851f283ce5.jpg
END:VEVENT
BEGIN:VEVENT
DTSTART;TZID=Europe/London:20260627T140000
DTEND;TZID=Europe/London:20260627T150000
DTSTAMP:20260423T003849
CREATED:20260324T144234Z
LAST-MODIFIED:20260324T155705Z
UID:10000606-1782568800-1782572400@counterpoints.org.uk
SUMMARY:Counterpoints Lecture with Elif Shafak
DESCRIPTION:Global bestselling writer and renowned activist Elif Shafak explores whether creativity can help heal our divided world in the inaugural Counterpoints lecture.\nFor this first iteration of the annual Counterpoints lecture\, Shafak explores how imagination and artistic practice shape our understanding of the world. \nFull details and tickets from Southbank Centre website \nShafak reflects on the link between creativity and courage\, and how creativity can open paths to belonging\, imagination and collaboration in times of conflict\, fear and political division. \nDrawing on academic\, literary critic and activist Edward Said’s concept of the ‘counterpoint’ perspective of displaced people\, Shafak considers how artists from regions affected by war\, violence and political extremism can offer vital insights and new ways of seeing\, questioning and imagining. As part of this\, Shafak unravels the idea of ‘storyland’ as a motherland. \nElif Shafak is an award-winning and highly acclaimed British-Turkish novelist whose work has been translated into 55 languages. The author of 21 books\, including 13 novels\, she is a bestselling author in many countries around the world. \nShafak holds a PhD in political science and is President of the Royal Society of Literature and a Public Humanities Fellow at the School of Advanced Studies (SAS). She is a leading voice on freedom of expression\, women’s rights and LGBTQ+ rights. \nPart of Southbank Centre’s Refugee Week 2026 programme\, presented in partnership with Counterpoints Arts. Refugee Week is a nationwide festival celebrating the contributions\, creativity and resilience of refugees and people seeking sanctuary. Inspired by refugees\, the theme this year is ‘courage’. \nPhoto by Ferhat Elik
URL:https://counterpoints.org.uk/event/counterpoints-lecture-with-elif-shafak/
LOCATION:Royal Festival Hall\, Southbank Centre\, SE1 8XX
CATEGORIES:Literature & Spoken Word,Refugee Week
ATTACH;FMTTYPE=image/jpeg:https://counterpoints.org.uk/wp-content/uploads/2026/03/Elif-Shafak_credit-Ferhat-Elik-1.jpg
END:VEVENT
END:VCALENDAR